BEGIN:VCALENDAR
VERSION:2.0
PRODID:-//CTCONP - ECPv6.15.20//NONSGML v1.0//EN
CALSCALE:GREGORIAN
METHOD:PUBLISH
X-ORIGINAL-URL:https://ctconp.org
X-WR-CALDESC:Events for CTCONP
REFRESH-INTERVAL;VALUE=DURATION:PT1H
X-Robots-Tag:noindex
X-PUBLISHED-TTL:PT1H
BEGIN:VTIMEZONE
TZID:America/New_York
BEGIN:DAYLIGHT
TZOFFSETFROM:-0500
TZOFFSETTO:-0400
TZNAME:EDT
DTSTART:20230312T070000
END:DAYLIGHT
BEGIN:STANDARD
TZOFFSETFROM:-0400
TZOFFSETTO:-0500
TZNAME:EST
DTSTART:20231105T060000
END:STANDARD
BEGIN:DAYLIGHT
TZOFFSETFROM:-0500
TZOFFSETTO:-0400
TZNAME:EDT
DTSTART:20240310T070000
END:DAYLIGHT
BEGIN:STANDARD
TZOFFSETFROM:-0400
TZOFFSETTO:-0500
TZNAME:EST
DTSTART:20241103T060000
END:STANDARD
BEGIN:DAYLIGHT
TZOFFSETFROM:-0500
TZOFFSETTO:-0400
TZNAME:EDT
DTSTART:20250309T070000
END:DAYLIGHT
BEGIN:STANDARD
TZOFFSETFROM:-0400
TZOFFSETTO:-0500
TZNAME:EST
DTSTART:20251102T060000
END:STANDARD
END:VTIMEZONE
BEGIN:VEVENT
DTSTART;TZID=America/New_York:20240910T100000
DTEND;TZID=America/New_York:20240910T120000
DTSTAMP:20260421T043333
CREATED:20240918T164316Z
LAST-MODIFIED:20240918T164402Z
UID:4979-1725962400-1725969600@ctconp.org
SUMMARY:CTCONP Title Sponsors for R. Frank Nims Block Party
DESCRIPTION:🎉 CTCO is proud to be the Title Sponsor for the R. Frank Nims Block Party today\, celebrating the incredible achievement of the students for making a School Grade of B – the first time in school history! 🏆🎓 \nWe had an amazing time hanging out with some of our favorite friends like Superintendent Rocky Hanna\, School Board Member for District 3 Darryl Jones\, and Nims Admin: Ms. Bullard and Dr. Bolden. Special shout-out to some of our awesome board members who joined us: Natalie Rackley-Parrish\, Bethany Rackley\, and our newest board member Jessica Doolan! 🙌🏽✨ \nIt was an honor to celebrate the hard work of the students\, staff\, and community. Congratulations to Nims Middle School on this historic achievement! 🎊💪🏽 \n#CTCO #NimsBlockParty #CelebrateSuccess #SchoolGradeB #CommunitySupport #EducationMatters #MakingHistory #LeonCountySchools
URL:https://ctconp.org/event/ctconp-title-sponsors-for-r-frank-nims-block-party/
ATTACH;FMTTYPE=image/webp:https://ctconp.org/wp-content/uploads/2.webp
END:VEVENT
BEGIN:VEVENT
DTSTART;TZID=America/New_York:20240920T113000
DTEND;TZID=America/New_York:20240920T123000
DTSTAMP:20260421T043333
CREATED:20240918T172147Z
LAST-MODIFIED:20240918T172147Z
UID:4992-1726831800-1726835400@ctconp.org
SUMMARY:PACE\, Leon Monthly Lunch
DESCRIPTION:🍗🥔 It’s lunchtime at Pace Leon\, and we’re serving up some delicious fried chicken and potato wedges! Join us as we enjoy great food\, great company\, and meaningful conversations with our Pace Leon community. Can’t wait to see you all there! 🙌🍴 \n#CTCONP #LuncheonVibes #FriedChickenFavorites #PaceLeon #CommunityPartnership #GoodEats #SupportingOurStudents
URL:https://ctconp.org/event/pace-leon-monthly-lunch-2/
END:VEVENT
BEGIN:VEVENT
DTSTART;TZID=America/New_York:20240920T113000
DTEND;TZID=America/New_York:20240920T123000
DTSTAMP:20260421T043333
CREATED:20241011T040443Z
LAST-MODIFIED:20241011T040443Z
UID:5076-1726831800-1726835400@ctconp.org
SUMMARY:PACE\, Leon September Monthly Lunch
DESCRIPTION:At our September monthly luncheon at Pace Center for Girls\, Leon\, we had a delightful time connecting with the young ladies over a delicious meal of chicken\, potato wedges\, and cupcakes! 🍗🥔🧁 These luncheons provide a wonderful opportunity to build relationships and foster a supportive environment. We love sharing these moments and watching our students thrive. Thank you to everyone who joined us for a day filled with good food and even better company! 💖 #PaceLeon #CommunityConnection
URL:https://ctconp.org/event/pace-leon-september-monthly-lunch/
LOCATION:Pace Center for Girls\, Leon\, 311 E. Jennings Street\, Tallahassee\, FL\, 32301\, United States
ATTACH;FMTTYPE=image/webp:https://ctconp.org/wp-content/uploads/Grey-Simple-Pop-Up-Lunch-Time-Instagram-Post.webp
END:VEVENT
BEGIN:VEVENT
DTSTART;TZID=America/New_York:20240930T110000
DTEND;TZID=America/New_York:20240930T123000
DTSTAMP:20260421T043333
CREATED:20241011T043645Z
LAST-MODIFIED:20241011T043757Z
UID:5084-1727694000-1727699400@ctconp.org
SUMMARY:PACE\, Leon Financial Literacy Making Your Credit Work
DESCRIPTION:Empowering our community with financial literacy! 💡💰  \nToday’s event focused on ‘Making Your Credit Work’ and responsible credit/debit card use. Alongside valuable lessons on budgeting\, our students put their knowledge to the test by preparing and serving lunch for everyone.  \nA big thank you to Children’s Services Council of Leon County (CSC) for supporting this financial literacy program and making these learning opportunities possible! 🙌✨ Together\, we’re building a foundation for financial independence and practical life skills. 🍽️📊 \n#FinancialLiteracy #ResponsibleCreditUse #BudgetingSkills #CommunityEmpowerment #StudentSuccess
URL:https://ctconp.org/event/pace-leon-financial-literacy-making-your-credit-work/
LOCATION:Pace Center for Girls\, Leon\, 311 E. Jennings Street\, Tallahassee\, FL\, 32301\, United States
ATTACH;FMTTYPE=image/webp:https://ctconp.org/wp-content/uploads/Grey-Simple-Pop-Up-Lunch-Time-Instagram-Post-5.webp
END:VEVENT
END:VCALENDAR