BEGIN:VCALENDAR
VERSION:2.0
PRODID:-//CTCONP - ECPv6.15.20//NONSGML v1.0//EN
CALSCALE:GREGORIAN
METHOD:PUBLISH
X-WR-CALNAME:CTCONP
X-ORIGINAL-URL:https://ctconp.org
X-WR-CALDESC:Events for CTCONP
REFRESH-INTERVAL;VALUE=DURATION:PT1H
X-Robots-Tag:noindex
X-PUBLISHED-TTL:PT1H
BEGIN:VTIMEZONE
TZID:America/New_York
BEGIN:DAYLIGHT
TZOFFSETFROM:-0500
TZOFFSETTO:-0400
TZNAME:EDT
DTSTART:20230312T070000
END:DAYLIGHT
BEGIN:STANDARD
TZOFFSETFROM:-0400
TZOFFSETTO:-0500
TZNAME:EST
DTSTART:20231105T060000
END:STANDARD
BEGIN:DAYLIGHT
TZOFFSETFROM:-0500
TZOFFSETTO:-0400
TZNAME:EDT
DTSTART:20240310T070000
END:DAYLIGHT
BEGIN:STANDARD
TZOFFSETFROM:-0400
TZOFFSETTO:-0500
TZNAME:EST
DTSTART:20241103T060000
END:STANDARD
BEGIN:DAYLIGHT
TZOFFSETFROM:-0500
TZOFFSETTO:-0400
TZNAME:EDT
DTSTART:20250309T070000
END:DAYLIGHT
BEGIN:STANDARD
TZOFFSETFROM:-0400
TZOFFSETTO:-0500
TZNAME:EST
DTSTART:20251102T060000
END:STANDARD
END:VTIMEZONE
BEGIN:VTIMEZONE
TZID:America/New_York
BEGIN:DAYLIGHT
TZOFFSETFROM:-0500
TZOFFSETTO:-0400
TZNAME:EDT
DTSTART:20220313T070000
END:DAYLIGHT
BEGIN:STANDARD
TZOFFSETFROM:-0400
TZOFFSETTO:-0500
TZNAME:EST
DTSTART:20221106T060000
END:STANDARD
BEGIN:DAYLIGHT
TZOFFSETFROM:-0500
TZOFFSETTO:-0400
TZNAME:EDT
DTSTART:20230312T070000
END:DAYLIGHT
BEGIN:STANDARD
TZOFFSETFROM:-0400
TZOFFSETTO:-0500
TZNAME:EST
DTSTART:20231105T060000
END:STANDARD
BEGIN:DAYLIGHT
TZOFFSETFROM:-0500
TZOFFSETTO:-0400
TZNAME:EDT
DTSTART:20240310T070000
END:DAYLIGHT
BEGIN:STANDARD
TZOFFSETFROM:-0400
TZOFFSETTO:-0500
TZNAME:EST
DTSTART:20241103T060000
END:STANDARD
BEGIN:DAYLIGHT
TZOFFSETFROM:-0500
TZOFFSETTO:-0400
TZNAME:EDT
DTSTART:20250309T070000
END:DAYLIGHT
BEGIN:STANDARD
TZOFFSETFROM:-0400
TZOFFSETTO:-0500
TZNAME:EST
DTSTART:20251102T060000
END:STANDARD
END:VTIMEZONE
BEGIN:VEVENT
DTSTART;TZID=America/New_York:20240404T183000
DTEND;TZID=America/New_York:20240404T200000
DTSTAMP:20260421T010200
CREATED:20240418T170538Z
LAST-MODIFIED:20240418T170538Z
UID:4631-1712255400-1712260800@ctconp.org
SUMMARY:CTCONP: Recognized at Leon County Schools' Volunteer Partner and Mentor Awards Ceremony
DESCRIPTION:CTCONP is honored to have been nominated by R. Frank Nims Middle School for the Business Partner of the Year award at the Volunteer Partner and Mentor Recognition Event and Awards Ceremony hosted by Leon County Schools. Congratulations to all nominees and award winners! 🎉 #CommunityEngagement #Partnerships #Recognition
URL:https://ctconp.org/event/ctconp-recognized-at-leon-county-schools-volunteer-partner-and-mentor-awards-ceremony/
LOCATION:Leon High School Auditorium\, 550 East Tennessee Street\, Tallahassee\, FL\, 32308\, United States
ATTACH;FMTTYPE=image/webp:https://ctconp.org/wp-content/uploads/IMG_4861.webp
END:VEVENT
BEGIN:VEVENT
DTSTART;TZID=America/New_York:20240404T140000
DTEND;TZID=America/New_York:20240404T160000
DTSTAMP:20260421T010200
CREATED:20240314T134844Z
LAST-MODIFIED:20240318T170113Z
UID:4486-1712239200-1712246400@ctconp.org
SUMMARY:Pace\, Leon - Empowering Your Financial Life: Banking 101
DESCRIPTION:Join us for Banking Literacy 101 at Pace\, Leon’s ‘Empowering Your Financial Life – Financial Fitness Fair’! 💰 This program is all about arming students with vital financial skills for a bright future. Whether you’re gearing up for college\, diving into the workforce\, or simply aiming to boost your financial know-how\, we’re here to empower you with the tools and knowledge you need to make informed decisions. \nHuge thanks to all our sponsors for their generous support\, and a special shoutout to CSC Leon for their invaluable contribution to financial literacy education. 🌟 Let’s embark on this journey toward financial empowerment together! 💼 #FinancialFitnessFair #EmpoweringYouth”
URL:https://ctconp.org/event/pace-leon-empowering-your-financial-life-financial-fitness-fair/
LOCATION:Pace Center for Girls\, Leon\, 311 E. Jennings Street\, Tallahassee\, FL\, 32301\, United States
ATTACH;FMTTYPE=image/webp:https://ctconp.org/wp-content/uploads/Final-Bank-Literacy-Flyer.webp
END:VEVENT
BEGIN:VEVENT
DTSTART;TZID=America/New_York:20240327T100000
DTEND;TZID=America/New_York:20240327T120000
DTSTAMP:20260421T010200
CREATED:20240315T202106Z
LAST-MODIFIED:20240418T160055Z
UID:4492-1711533600-1711540800@ctconp.org
SUMMARY:Empowering Your Financial Life : Financial Fitness Fair
DESCRIPTION:Pace\, Leon Empowering Your Financial Life – Financial Fitness Fair! 💰 This program is dedicated to equipping students with essential financial skills for a successful future. Whether you’re gearing up for college\, entering the workforce\, or simply aiming to enhance your financial literacy\, we’re here to empower you with the knowledge and tools you need to make informed decisions. \nA special thanks to all our sponsors for their generous support\, with a heartfelt appreciation to CSC Leon for their invaluable contribution to financial literacy education. 🌟 Let’s embark on this journey towards financial empowerment together! 💼 #FinancialFitnessFair #EmpoweringYouth
URL:https://ctconp.org/event/empowering-your-financial-life-financial-fitness-fair/
LOCATION:Care Point Health & Wellness Center\, 2200 S Monroe St\, Tallahassee\, FL\, 32301\, United States
ATTACH;FMTTYPE=image/webp:https://ctconp.org/wp-content/uploads/327-Financial-Fitness-Fair.webp
END:VEVENT
BEGIN:VEVENT
DTSTART;VALUE=DATE:20240315
DTEND;VALUE=DATE:20240429
DTSTAMP:20260421T010200
CREATED:20240315T205224Z
LAST-MODIFIED:20240315T210605Z
UID:4499-1710460800-1714348799@ctconp.org
SUMMARY:Mother's Day Raffle Fundraiser
DESCRIPTION:Style her love this Mother’s Day Fundraiser – support your community with a chance to win a Louis Vuitton Graceful MM hobo bag. Your ticket purchase directly benefits scholarships and community initiatives\, like the Promise Scholarship and our Empowering Your Financial Life youth financial literacy program. \nPurchase a ticket and impact a life today!
URL:https://ctconp.org/event/mothers-day-raffle-fundraiser/
LOCATION:https://go.rallyup.com/ctconp-gracefulmm
ATTACH;FMTTYPE=image/webp:https://ctconp.org/wp-content/uploads/Raffle-Flyer-1-3.webp
END:VEVENT
BEGIN:VEVENT
DTSTART;TZID=America/New_York:20240308T110000
DTEND;TZID=America/New_York:20240308T120000
DTSTAMP:20260421T010200
CREATED:20240314T133518Z
LAST-MODIFIED:20240314T134939Z
UID:4479-1709895600-1709899200@ctconp.org
SUMMARY:John G. Riley Elementary – Growl Store
DESCRIPTION:As the day before Spring Break approaches\, CTCO is gearing up to celebrate the dedication and achievements of our amazing students! \nOur “Youth Rewards” program is all about recognizing and supporting exceptional behavior and perfect school attendance with fantastic incentives. \nAt CTCO\, we’re committed to empowering our youth every step of the way. Let’s continue to inspire greatness together! 🌟 #YouthRewards #EmpoweringYouth \n\n\n\n\n\n 
URL:https://ctconp.org/event/john-g-riley-elementary-growl-store/
LOCATION:John G. Riley Elementary School\, 1400 Indiana Street\, Tallahassee\, FL\, 32304\, United States
ATTACH;FMTTYPE=image/webp:https://ctconp.org/wp-content/uploads/image_123650291-1.webp
END:VEVENT
BEGIN:VEVENT
DTSTART;TZID=America/New_York:20240301T110000
DTEND;TZID=America/New_York:20240301T120000
DTSTAMP:20260421T010200
CREATED:20240314T132445Z
LAST-MODIFIED:20240314T133152Z
UID:4467-1709290800-1709294400@ctconp.org
SUMMARY:Youth Rewards: Pace\, Leon Lunch
DESCRIPTION:CTCO Nonprofit will host a delightful luncheon for the girls at Pace Center for Girls\, Leon\, serving up scrumptious nachos prepared with care and served with a side of joy. The event will be a heartwarming gathering\, filled with laughter\, good food\, and moments of connection. It provides an opportunity for the girls to enjoy a delicious meal while bonding with peers and mentors in a supportive environment. The nacho luncheon is a resounding success\, leaving everyone with full stomachs and happy memories.
URL:https://ctconp.org/event/youth-rewards-pace-leon-lunch-2/
LOCATION:FL
ATTACH;FMTTYPE=image/webp:https://ctconp.org/wp-content/uploads/3cbe644c-23e7-4dcc-90e2-13e2b3bd94c3.webp
END:VEVENT
BEGIN:VEVENT
DTSTART;TZID=America/New_York:20240207T103000
DTEND;TZID=America/New_York:20240207T123000
DTSTAMP:20260421T010200
CREATED:20240221T170223Z
LAST-MODIFIED:20240313T132217Z
UID:4379-1707301800-1707309000@ctconp.org
SUMMARY:Youth Rewards: Pace Leon\, Lunch
DESCRIPTION:
URL:https://ctconp.org/event/youth-rewards-pace-lunch/
LOCATION:Pace Center for Girls\, Leon\, 311 E. Jennings Street\, Tallahassee\, FL\, 32301\, United States
ATTACH;FMTTYPE=image/webp:https://ctconp.org/wp-content/uploads/Beige-and-Orange-Mexican-Food-Instagram-Post-.webp
END:VEVENT
BEGIN:VEVENT
DTSTART;TZID=America/New_York:20240125T190000
DTEND;TZID=America/New_York:20240125T210000
DTSTAMP:20260421T010200
CREATED:20240219T164704Z
LAST-MODIFIED:20240219T164813Z
UID:4368-1706209200-1706216400@ctconp.org
SUMMARY:
DESCRIPTION:
URL:https://ctconp.org/event/4368/
LOCATION:FL
ATTACH;FMTTYPE=image/webp:https://ctconp.org/wp-content/uploads/2.webp
END:VEVENT
BEGIN:VEVENT
DTSTART;TZID=America/New_York:20231224T080000
DTEND;TZID=America/New_York:20231224T150000
DTSTAMP:20260421T010200
CREATED:20231129T071915Z
LAST-MODIFIED:20231227T194759Z
UID:2783-1703404800-1703430000@ctconp.org
SUMMARY:Christmas Giveaway
DESCRIPTION:CTCO is excited to extend a helping hand this holiday season by assisting one student from each local school. \nWe will be delivering Christmas items to a student from Title I elementary\, middle\, and high schools prior to the Christmas holiday. \nOur goal is to make the season brighter for a student in need by providing them with thoughtful and affordable gifts. \nLooking forward to putting the biggest smile on our youth’s faces this Christmas!
URL:https://ctconp.org/event/christmas-giveaway/
LOCATION:FL
CATEGORIES:Events
ATTACH;FMTTYPE=image/jpeg:https://ctconp.org/wp-content/uploads/2023-11-28_21-18-48_3.jpg
END:VEVENT
BEGIN:VEVENT
DTSTART;TZID=America/New_York:20231222T173000
DTEND;TZID=America/New_York:20231222T193000
DTSTAMP:20260421T010200
CREATED:20231205T204757Z
LAST-MODIFIED:20231227T194848Z
UID:3352-1703266200-1703273400@ctconp.org
SUMMARY:Backpacks for the Unsheltered
DESCRIPTION:What a perfect way to give back to our unhoused/unsheltered in the Frenchtown community area. \nExtend a hand and help someone in need. Donations and Volunteers are welcomed! \nLooking forward to our partnership with Divine Revelations Ministries for our “Backbacks for the Unsheltered” event! \n 
URL:https://ctconp.org/event/backpacks-for-the-unsheltered/
LOCATION:Howell Strong Park in Frenchtown
CATEGORIES:Events
ATTACH;FMTTYPE=image/webp:https://ctconp.org/wp-content/uploads/Flyer.webp
END:VEVENT
BEGIN:VEVENT
DTSTART;TZID=America/New_York:20231201T110000
DTEND;TZID=America/New_York:20231201T150000
DTSTAMP:20260421T010200
CREATED:20231129T064802Z
LAST-MODIFIED:20231129T191920Z
UID:2769-1701428400-1701442800@ctconp.org
SUMMARY:John G. Riley Elementary - Growl Store #2
DESCRIPTION:CTCO understands the importance of rewarding our youth with great behavior and perfect school attendance. \nThe “Youth Rewards” program allows us to support our local schools in rewarding our students with the “WOW” rewards. \nCTCO understands the importance of empowering our youth. \nWe are on our way to Growl Store #2!
URL:https://ctconp.org/event/john-g-riley-elementary-growl-store-2/
LOCATION:John G. Riley Elementary School\, 1400 Indiana Street\, Tallahassee\, FL\, 32304\, United States
CATEGORIES:Events
ATTACH;FMTTYPE=image/jpeg:https://ctconp.org/wp-content/uploads/youthrewards2_box.jpg
END:VEVENT
BEGIN:VEVENT
DTSTART;TZID=America/New_York:20231116T080000
DTEND;TZID=America/New_York:20231116T130000
DTSTAMP:20260421T010200
CREATED:20231129T065720Z
LAST-MODIFIED:20231129T190007Z
UID:2771-1700121600-1700139600@ctconp.org
SUMMARY:Thanksgiving Food Giveaway
DESCRIPTION:Thanks\, Piggly Wiggly for working with our team to provide affordable Thanksgiving items\, and Consulting Together\, LLC\, and Walmart/Sam’s Club Facility # 4427 for providing the funding needed to feed 100 families. \nLooking forward to delivering 113 baskets to our families next week.
URL:https://ctconp.org/event/thanksgiving-food-giveaway/
LOCATION:FL
CATEGORIES:Events
ATTACH;FMTTYPE=image/jpeg:https://ctconp.org/wp-content/uploads/2023-11-28_20-55-24-1.jpg
END:VEVENT
BEGIN:VEVENT
DTSTART;TZID=America/New_York:20231107T103000
DTEND;TZID=America/New_York:20231107T143000
DTSTAMP:20260421T010200
CREATED:20231129T070232Z
LAST-MODIFIED:20231129T192009Z
UID:2776-1699353000-1699367400@ctconp.org
SUMMARY:R. Frank Nims Movie Day
DESCRIPTION:CTCO understands the importance of rewarding our youth with great behavior and perfect school attendance. \nThe “Youth Rewards” program allows us to support our local schools in rewarding our students with the “WOW” rewards. \nCTCO understands the importance of empowering our youth. \nR. Frank Nims Had 23 Youths\, 10 Girls\, and 13 Boys who had perfect youth\, so to reward them\, we are headed to the movies to enjoy lunch\, popcorn\, and Sonic 2!
URL:https://ctconp.org/event/r-frank-nims-movie-day/
LOCATION:R. Frank Nims Middle School\, 723 W. Orange Avenue\, Tallahassee\, FL\, 32310\, United States
CATEGORIES:Events
ATTACH;FMTTYPE=image/webp:https://ctconp.org/wp-content/uploads/FullSizeRender-scaled.webp
END:VEVENT
BEGIN:VEVENT
DTSTART;TZID=America/New_York:20231104T010000
DTEND;TZID=America/New_York:20231104T150000
DTSTAMP:20260421T010200
CREATED:20231129T071341Z
LAST-MODIFIED:20231129T192258Z
UID:2779-1699059600-1699110000@ctconp.org
SUMMARY:CTCO's Brunch\, Listen\, and Action Social Event
DESCRIPTION:Come and hear about the great things Consulting Together Community Outreach (CTCO) is doing and build partnerships while doing it during our 1st Brunch\, Listen\, and Action Social Event!
URL:https://ctconp.org/event/ctcos-brunch-listen-and-action-social-event/
LOCATION:Domi Station\, 914 Railroad Avenue\, Tallahassee\, FL\, 32310\, United States
CATEGORIES:Events
ATTACH;FMTTYPE=image/jpeg:https://ctconp.org/wp-content/uploads/2023-11-28_21-12-44_1.jpg
END:VEVENT
BEGIN:VEVENT
DTSTART;TZID=America/New_York:20231030T110000
DTEND;TZID=America/New_York:20231030T153000
DTSTAMP:20260421T010200
CREATED:20231125T024949Z
LAST-MODIFIED:20231129T190145Z
UID:2732-1698663600-1698679800@ctconp.org
SUMMARY:John G. Riley Elementary School - Growl Store
DESCRIPTION:CTCO understands the importance of rewarding our youth with great behavior and perfect school attendance. \nThe “Youth Rewards” program allows us to support our local schools in rewarding our students with the “WOW” rewards. \nCTCO understands the importance of empowering our youth. \nWe’re on our way to John G. Riley Elementary School for their first Growl Store!!!
URL:https://ctconp.org/event/new-event-test/
LOCATION:John G. Riley Elementary School\, 1400 Indiana Street\, Tallahassee\, FL\, 32304\, United States
CATEGORIES:Events
ATTACH;FMTTYPE=image/webp:https://ctconp.org/wp-content/uploads/img_2731.webp
END:VEVENT
BEGIN:VEVENT
DTSTART;TZID=America/New_York:20231012T080000
DTEND;TZID=America/New_York:20231012T130000
DTSTAMP:20260421T010200
CREATED:20231115T091740Z
LAST-MODIFIED:20231129T190218Z
UID:943-1697097600-1697115600@ctconp.org
SUMMARY:Empowering Your Life - Financial Literacy Kickoff
DESCRIPTION:Financial literacy is a crucial life skill\, and this program is designed to empower students with the knowledge and tools they need to make informed financial decisions. Whether you’re preparing for college\, starting your first job\, or just want to be more financially savvy\, this program will provide you with the fundamentals of personal finance. \nWhat a wonderful way to kick off the Financial Literacy program with the First Commerce Credit Union Financial Fitness Fair!
URL:https://ctconp.org/event/save-the-date-join-us-in-our-giving-tuesday-virtual-event-on-december/
LOCATION:Pace Center for Girls\, Leon\, 311 E. Jennings Street\, Tallahassee\, FL\, 32301\, United States
CATEGORIES:Events
ATTACH;FMTTYPE=image/jpeg:https://ctconp.org/wp-content/uploads/Financial-Literacy-Photo.jpg
END:VEVENT
BEGIN:VEVENT
DTSTART;TZID=America/New_York:20231009T080000
DTEND;TZID=America/New_York:20231013T170000
DTSTAMP:20260421T010200
CREATED:20231114T070537Z
LAST-MODIFIED:20231129T190239Z
UID:1577-1696838400-1697216400@ctconp.org
SUMMARY:Crafts Through Entrepreneurship
DESCRIPTION:What a great way to provide “Crocs” to youth with a twist! \nYouth who participate in the “Crafts Through Entrepreneurship” program are granted the opportunity to own a pair of Crocs designed by them. Youth participate in working with CTCO’s Director of Arts and Special Events to create a unique pair of Crocs shoes with their own design that they are able to wear when finished. \nNot only are our youth able to create their own Crocs\, but they are awarded the opportunity to build relationships with CTCO staff and volunteers.
URL:https://ctconp.org/event/save-the-date-join-us-in-our-giving-tuesday-virtual-event-on-november-2/
LOCATION:Pace Center for Girls\, Leon\, 311 E. Jennings Street\, Tallahassee\, FL\, 32301\, United States
CATEGORIES:Events
ATTACH;FMTTYPE=image/png:https://ctconp.org/wp-content/uploads/Crafts-Marketing.png
END:VEVENT
BEGIN:VEVENT
DTSTART;TZID=America/New_York:20230801T080000
DTEND;TZID=America/New_York:20230822T235900
DTSTAMP:20260421T010200
CREATED:20231110T054759Z
LAST-MODIFIED:20231129T190336Z
UID:434-1690876800-1692748740@ctconp.org
SUMMARY:MAKE A DIFFERENCE GAME TIME FUNDRAISER
DESCRIPTION:Game Time Fundraiser – support underprivileged youth with a chance to win a trip to Camping World Kickoff LSU vs FSU 2023 in Orlando\, Florida on September 3rd.  Your ticket purchase directly benefits scholarships and community initiatives. 20% of proceeds received will go to Pace Center for Girls Leon to support the following initiatives: \n\nServices for girls\nStandard Textbooks\nFull Lab Kits for Science Room\nHealthy Snacks for Special Events\nTeacher Classroom Sponsorship\nGas for Transport Vans\nClassroom Supplies\n\nPurchase a ticket and impact a life today!
URL:https://ctconp.org/event/save-the-date-join-us-in-our-giving-tuesday-virtual-event-on-november/
LOCATION:Online
CATEGORIES:Fundraisers
ATTACH;FMTTYPE=image/jpeg:https://ctconp.org/wp-content/uploads/GameTime-Screenshot.jpg
END:VEVENT
END:VCALENDAR