BEGIN:VCALENDAR
VERSION:2.0
PRODID:-//CTCONP - ECPv6.15.20//NONSGML v1.0//EN
CALSCALE:GREGORIAN
METHOD:PUBLISH
X-WR-CALNAME:CTCONP
X-ORIGINAL-URL:https://ctconp.org
X-WR-CALDESC:Events for CTCONP
REFRESH-INTERVAL;VALUE=DURATION:PT1H
X-Robots-Tag:noindex
X-PUBLISHED-TTL:PT1H
BEGIN:VTIMEZONE
TZID:America/New_York
BEGIN:DAYLIGHT
TZOFFSETFROM:-0500
TZOFFSETTO:-0400
TZNAME:EDT
DTSTART:20240310T070000
END:DAYLIGHT
BEGIN:STANDARD
TZOFFSETFROM:-0400
TZOFFSETTO:-0500
TZNAME:EST
DTSTART:20241103T060000
END:STANDARD
BEGIN:DAYLIGHT
TZOFFSETFROM:-0500
TZOFFSETTO:-0400
TZNAME:EDT
DTSTART:20250309T070000
END:DAYLIGHT
BEGIN:STANDARD
TZOFFSETFROM:-0400
TZOFFSETTO:-0500
TZNAME:EST
DTSTART:20251102T060000
END:STANDARD
BEGIN:DAYLIGHT
TZOFFSETFROM:-0500
TZOFFSETTO:-0400
TZNAME:EDT
DTSTART:20260308T070000
END:DAYLIGHT
BEGIN:STANDARD
TZOFFSETFROM:-0400
TZOFFSETTO:-0500
TZNAME:EST
DTSTART:20261101T060000
END:STANDARD
END:VTIMEZONE
BEGIN:VEVENT
DTSTART;VALUE=DATE:20250701
DTEND;VALUE=DATE:20250803
DTSTAMP:20260421T200915
CREATED:20250731T181212Z
LAST-MODIFIED:20250731T181212Z
UID:5376-1751328000-1754179199@ctconp.org
SUMMARY:Back to School: Backpack Grab & Go event!
DESCRIPTION:🎒✨ It’s time for our Back to School Bash: Backpack Grab & Go event! \nWe’re collecting school supplies to support students from our partner schools—including Nims Middle School—and we need YOUR help! 📚✏️ \n🛍️ Shop from our Amazon Wishlist by August 1st and help us fill backpacks with love and supplies for students in need. \n🟣 Everything goes directly to CTCO—just click\, shop\, and support!\n🔗https://www.amazon.com/registries/gl/guest-view/2VUOS99PBR1Q4?ref_=cm_sw_r_cp_ud_ggr-subnav-share_97G001JXVS6FV4RWRFTZ_1 \nLet’s send these kids back to school ready to thrive! 💜\n#CTCO #BackToSchoolBash #SupportOurYouth #NimsMiddleSchool #BackpackDrive #CommunityLove
URL:https://ctconp.org/event/back-to-school-backpack-grab-go-event/
CATEGORIES:Events,Fundraisers
ATTACH;FMTTYPE=image/webp:https://ctconp.org/wp-content/uploads/Instagram-Post.webp
END:VEVENT
END:VCALENDAR