BEGIN:VCALENDAR
VERSION:2.0
PRODID:-//CTCONP - ECPv6.15.20//NONSGML v1.0//EN
CALSCALE:GREGORIAN
METHOD:PUBLISH
X-WR-CALNAME:CTCONP
X-ORIGINAL-URL:https://ctconp.org
X-WR-CALDESC:Events for CTCONP
REFRESH-INTERVAL;VALUE=DURATION:PT1H
X-Robots-Tag:noindex
X-PUBLISHED-TTL:PT1H
BEGIN:VTIMEZONE
TZID:America/New_York
BEGIN:DAYLIGHT
TZOFFSETFROM:-0500
TZOFFSETTO:-0400
TZNAME:EDT
DTSTART:20230312T070000
END:DAYLIGHT
BEGIN:STANDARD
TZOFFSETFROM:-0400
TZOFFSETTO:-0500
TZNAME:EST
DTSTART:20231105T060000
END:STANDARD
BEGIN:DAYLIGHT
TZOFFSETFROM:-0500
TZOFFSETTO:-0400
TZNAME:EDT
DTSTART:20240310T070000
END:DAYLIGHT
BEGIN:STANDARD
TZOFFSETFROM:-0400
TZOFFSETTO:-0500
TZNAME:EST
DTSTART:20241103T060000
END:STANDARD
BEGIN:DAYLIGHT
TZOFFSETFROM:-0500
TZOFFSETTO:-0400
TZNAME:EDT
DTSTART:20250309T070000
END:DAYLIGHT
BEGIN:STANDARD
TZOFFSETFROM:-0400
TZOFFSETTO:-0500
TZNAME:EST
DTSTART:20251102T060000
END:STANDARD
END:VTIMEZONE
BEGIN:VEVENT
DTSTART;TZID=America/New_York:20241029T103000
DTEND;TZID=America/New_York:20241029T113000
DTSTAMP:20260421T064034
CREATED:20241011T041419Z
LAST-MODIFIED:20241011T041419Z
UID:5082-1730197800-1730201400@ctconp.org
SUMMARY:PACE\, Leon Financial Literacy Program Module V: Insurance and Risk
DESCRIPTION:In Module V: Insurance and Risks\, the students at Pace Center for Girls\, Leon\, are exploring the concepts of financial risk and its implications in everyday life. This session will cover essential topics such as understanding financial risk\, the relationship between risk and borrowing\, and various forms of financial risk. \nWe are thrilled to have the First Commerce Credit Union Risk Team join us to share their expertise on these important subjects. They’ll help our young ladies understand how to navigate risks associated with borrowing and make informed financial decisions. \nAs part of the curriculum\, students will also complete a self-assessment quiz on insurance and risk management\, reinforcing their learning and understanding. Together\, we’re equipping our scholars with the knowledge they need to manage financial risks effectively! 💼📊 #FinancialLiteracy #PaceLeon #RiskManagement
URL:https://ctconp.org/event/pace-leon-financial-literacy-program-module-v-insurance-and-risk/
LOCATION:Pace Center for Girls\, Leon\, 311 E. Jennings Street\, Tallahassee\, FL\, 32301\, United States
END:VEVENT
END:VCALENDAR