BEGIN:VCALENDAR
VERSION:2.0
PRODID:-//CTCONP - ECPv6.15.20//NONSGML v1.0//EN
CALSCALE:GREGORIAN
METHOD:PUBLISH
X-WR-CALNAME:CTCONP
X-ORIGINAL-URL:https://ctconp.org
X-WR-CALDESC:Events for CTCONP
REFRESH-INTERVAL;VALUE=DURATION:PT1H
X-Robots-Tag:noindex
X-PUBLISHED-TTL:PT1H
BEGIN:VTIMEZONE
TZID:America/New_York
BEGIN:DAYLIGHT
TZOFFSETFROM:-0500
TZOFFSETTO:-0400
TZNAME:EDT
DTSTART:20230312T070000
END:DAYLIGHT
BEGIN:STANDARD
TZOFFSETFROM:-0400
TZOFFSETTO:-0500
TZNAME:EST
DTSTART:20231105T060000
END:STANDARD
BEGIN:DAYLIGHT
TZOFFSETFROM:-0500
TZOFFSETTO:-0400
TZNAME:EDT
DTSTART:20240310T070000
END:DAYLIGHT
BEGIN:STANDARD
TZOFFSETFROM:-0400
TZOFFSETTO:-0500
TZNAME:EST
DTSTART:20241103T060000
END:STANDARD
BEGIN:DAYLIGHT
TZOFFSETFROM:-0500
TZOFFSETTO:-0400
TZNAME:EDT
DTSTART:20250309T070000
END:DAYLIGHT
BEGIN:STANDARD
TZOFFSETFROM:-0400
TZOFFSETTO:-0500
TZNAME:EST
DTSTART:20251102T060000
END:STANDARD
END:VTIMEZONE
BEGIN:VEVENT
DTSTART;TZID=America/New_York:20240930T110000
DTEND;TZID=America/New_York:20240930T123000
DTSTAMP:20260421T053119
CREATED:20241011T043645Z
LAST-MODIFIED:20241011T043757Z
UID:5084-1727694000-1727699400@ctconp.org
SUMMARY:PACE\, Leon Financial Literacy Making Your Credit Work
DESCRIPTION:Empowering our community with financial literacy! 💡💰  \nToday’s event focused on ‘Making Your Credit Work’ and responsible credit/debit card use. Alongside valuable lessons on budgeting\, our students put their knowledge to the test by preparing and serving lunch for everyone.  \nA big thank you to Children’s Services Council of Leon County (CSC) for supporting this financial literacy program and making these learning opportunities possible! 🙌✨ Together\, we’re building a foundation for financial independence and practical life skills. 🍽️📊 \n#FinancialLiteracy #ResponsibleCreditUse #BudgetingSkills #CommunityEmpowerment #StudentSuccess
URL:https://ctconp.org/event/pace-leon-financial-literacy-making-your-credit-work/
LOCATION:Pace Center for Girls\, Leon\, 311 E. Jennings Street\, Tallahassee\, FL\, 32301\, United States
ATTACH;FMTTYPE=image/webp:https://ctconp.org/wp-content/uploads/Grey-Simple-Pop-Up-Lunch-Time-Instagram-Post-5.webp
END:VEVENT
END:VCALENDAR